BEGIN:VCALENDAR
VERSION:2.0
PRODID:-//ChamberMaster//Event Calendar 2.0//EN
METHOD:PUBLISH
X-PUBLISHED-TTL:P3D
REFRESH-INTERVAL:P3D
CALSCALE:GREGORIAN
BEGIN:VEVENT
DTSTART:20180905T230000Z
DTEND:20180906T003000Z
X-MICROSOFT-CDO-ALLDAYEVENT:FALSE
SUMMARY:Grain Bin Safety Workshop
DESCRIPTION:Each year\, farmers risk their lives by entering large grain bins to remove clumped or rotting grain while machinery is still running. Much like quicksand\, flowing grain can bury a worker within seconds.
X-ALT-DESC;FMTTYPE=text/html:Each year\, farmers risk their lives by entering large grain bins to remove clumped or rotting grain while machinery is still running. Much like quicksand\, flowing grain can bury a worker within seconds.
LOCATION:Fremont Fire Department 415 East 16th Street Fremont\, NE
UID:e.881.14177
SEQUENCE:3
DTSTAMP:20260422T084851Z
URL:https://chamber.fremontne.org/events/details/grain-bin-safety-workshop-14177
END:VEVENT

END:VCALENDAR
