BEGIN:VCALENDAR
VERSION:2.0
PRODID:-//ChamberMaster//Event Calendar 2.0//EN
METHOD:PUBLISH
X-PUBLISHED-TTL:P3D
REFRESH-INTERVAL:P3D
CALSCALE:GREGORIAN
BEGIN:VEVENT
DTSTART:20241015T140000Z
DTEND:20241015T150000Z
X-MICROSOFT-CDO-ALLDAYEVENT:FALSE
SUMMARY:Great Plains Communications Chamber Coffee
DESCRIPTION:Great Plains Communications Chamber Coffee\n\n\n\n  Date: Tuesday\, October 15th\n\n  Time: 9:00 - 10:00 AM\n\n  Location: Semo Pasta + Wine\, 414 N Main St\, Fremont\, NE 68025\n\nKick off your morning with a delicious cup of coffee from The Cart & Co. and pastries from Semo Pasta + Wine take advantage of the opportunity to network with local industry professionals! This is the perfect setting to connect with fellow Chamber members and build relationships within the community.\n\nWe hope to see you there!
X-ALT-DESC;FMTTYPE=text/html:<p style="text-align: center\;"><span style="font-family: verdana\;"><span style="font-size: 28px\;">&#9749\;&#65039\; </span><strong style=""><span style="font-size: 28px\;">&nbsp\;Great Plains Communications Chamber Coffee</span></strong></span><br />\n<br />\n<span style="font-size: 22px\; font-family: verdana\;">&#128197\; <strong>Date:</strong> Tuesday\, October 15th<br />\n&#128344\; <strong>Time:</strong> 9:00 - 10:00 AM<br />\n&#128205\; <strong>Location:</strong> Semo Pasta + Wine\, 414 N Main St\, Fremont\, NE 68025</span></p>\n\n<p style="text-align: center\;"><span style="font-size:22px\;"><span style="font-family:verdana\;">Kick off your morning with a delicious cup of coffee from <strong>The Cart &amp\; Co.</strong> and pastries from <strong>Semo Pasta + Wine</strong>&nbsp\;take advantage of the opportunity to network with local industry professionals! This is the perfect setting to connect with fellow Chamber members and build relationships within the community.<br />\nWe hope to see you there!&nbsp\;</span></span></p>\n
LOCATION:
UID:e.881.16363
SEQUENCE:3
DTSTAMP:20260421T093453Z
URL:https://chamber.fremontne.org/events/details/great-plains-communications-chamber-coffee-16363
END:VEVENT

END:VCALENDAR
