BEGIN:VCALENDAR
VERSION:2.0
PRODID:-//ChamberMaster//Event Calendar 2.0//EN
METHOD:PUBLISH
X-PUBLISHED-TTL:P3D
REFRESH-INTERVAL:P3D
CALSCALE:GREGORIAN
BEGIN:VEVENT
DTSTART:20131024T220000Z
DTEND:20131025T000000Z
X-MICROSOFT-CDO-ALLDAYEVENT:FALSE
SUMMARY:Halloween Hysteria
DESCRIPTION:Halloween Hysteria Downtown Trick or Treating. Costume contest at Fremont Tribune starting at 5:30\, Face painting and spooky story time at the Fremont Art Association by Gallery 92 West and Keene Memorial Library\, Free photos for kids in costume at VW Photography and Haunted bank at Fremont National Bank.
X-ALT-DESC;FMTTYPE=text/html:Halloween Hysteria Downtown Trick or Treating. Costume contest at Fremont Tribune starting at 5:30\, Face painting and spooky story time at the Fremont Art Association by Gallery 92 West and Keene Memorial Library\, Free photos for kids in costume at VW Photography and Haunted bank at Fremont National Bank.
LOCATION:Downtown Fremont
UID:e.881.4402
SEQUENCE:3
DTSTAMP:20260425T102704Z
URL:https://chamber.fremontne.org/events/details/halloween-hysteria-10-24-2013-4402
END:VEVENT

END:VCALENDAR
