BEGIN:VCALENDAR
VERSION:2.0
PRODID:-//ChamberMaster//Event Calendar 2.0//EN
METHOD:PUBLISH
X-PUBLISHED-TTL:P3D
REFRESH-INTERVAL:P3D
CALSCALE:GREGORIAN
BEGIN:VEVENT
DTSTART:20190817T000000Z
DTEND:20190817T020000Z
X-MICROSOFT-CDO-ALLDAYEVENT:FALSE
SUMMARY:Home: Warrior Volleyball Game vs Grand View
DESCRIPTION:Help cheer on the Warrior volleyball team as the play Grand View
X-ALT-DESC;FMTTYPE=text/html:Help cheer on the Warrior volleyball team as the play Grand View&nbsp\;
LOCATION:Wikert Event Center
UID:e.881.14584
SEQUENCE:3
DTSTAMP:20260421T184237Z
URL:https://chamber.fremontne.org/events/details/home-warrior-volleyball-game-vs-grand-view-14584
END:VEVENT

END:VCALENDAR
