BEGIN:VCALENDAR
VERSION:2.0
PRODID:-//ChamberMaster//Event Calendar 2.0//EN
METHOD:PUBLISH
X-PUBLISHED-TTL:P3D
REFRESH-INTERVAL:P3D
CALSCALE:GREGORIAN
BEGIN:VEVENT
DTSTART:20181120T150000Z
DTEND:20181120T160000Z
X-MICROSOFT-CDO-ALLDAYEVENT:FALSE
SUMMARY:Irv's Deli Coffee
DESCRIPTION:
X-ALT-DESC;FMTTYPE=text/html:
LOCATION:345 North Main Street Fremont\, NE
UID:e.881.14300
SEQUENCE:3
DTSTAMP:20260422T062438Z
URL:https://chamber.fremontne.org/events/details/irv-s-deli-coffee-14300
END:VEVENT

END:VCALENDAR
