BEGIN:VCALENDAR
VERSION:2.0
PRODID:-//ChamberMaster//Event Calendar 2.0//EN
METHOD:PUBLISH
X-PUBLISHED-TTL:P3D
REFRESH-INTERVAL:P3D
CALSCALE:GREGORIAN
BEGIN:VEVENT
DTSTART;VALUE=DATE:20180713
DTEND;VALUE=DATE:20180716
TRANSP:TRANSPARENT
X-MICROSOFT-CDO-ALLDAYEVENT:TRUE
SUMMARY:John C. Fremont Days
DESCRIPTION:
X-ALT-DESC;FMTTYPE=text/html:
LOCATION:
UID:e.881.14153
SEQUENCE:3
DTSTAMP:20260422T113147Z
URL:https://chamber.fremontne.org/events/details/john-c-fremont-days-14153
END:VEVENT

END:VCALENDAR
