BEGIN:VCALENDAR
VERSION:2.0
PRODID:-//ChamberMaster//Event Calendar 2.0//EN
METHOD:PUBLISH
X-PUBLISHED-TTL:P3D
REFRESH-INTERVAL:P3D
CALSCALE:GREGORIAN
BEGIN:VEVENT
DTSTART:20180821T210000Z
DTEND:20180821T220000Z
X-MICROSOFT-CDO-ALLDAYEVENT:FALSE
SUMMARY:Keene Memorial Library Back to School Craft Party
DESCRIPTION:Join Keene Memorial Library for a fun filled back to school craft and games party. Fun for all ages!
X-ALT-DESC;FMTTYPE=text/html:Join Keene Memorial Library for a fun filled back to school craft and games party. Fun for all ages!
LOCATION:Keene Memorial Library\, Large Auditorium
UID:e.881.14176
SEQUENCE:3
DTSTAMP:20260422T100952Z
URL:https://chamber.fremontne.org/events/details/keene-memorial-library-back-to-school-craft-party-14176
END:VEVENT

END:VCALENDAR
