BEGIN:VCALENDAR
VERSION:2.0
PRODID:-//ChamberMaster//Event Calendar 2.0//EN
METHOD:PUBLISH
X-PUBLISHED-TTL:P3D
REFRESH-INTERVAL:P3D
CALSCALE:GREGORIAN
BEGIN:VEVENT
DTSTART:20200229T010000Z
DTEND:20200229T023000Z
X-MICROSOFT-CDO-ALLDAYEVENT:FALSE
SUMMARY:Kim Stabbe on Oral Health and Wellness/$5.00 minimum Donation
DESCRIPTION:Kim has been a clinical dental hygienist for over 35 years. Kim recently retired as a Professor of Dental Hygiene for 30 years at Johnson County Community College in Overland Park\, KS where she taught subjects that included pharmacology\, local anesthesia\, radiology\, nitrous oxide sedation\, dental anatomy\, oral histology\, ethics\, jurisprudence as well as being the senior dental hygiene clinic coordinator. Kim has worked with many medically compromised patients with various oral health issues.\n\nKim's Wellness Talk on oral health will cover the most common oral diseases (decay\, periodontal disease\, and oral cancer). You will learn about these oral diseases as well as systemic links to oral health. Discussion of various medications and their effects on oral health will be open for questions. Dry mouth/xerostomia will be included in Kim's talk and some sample products for dry mouth will be handed out. Please come join Kim in learning more about the importance of your oral health.
X-ALT-DESC;FMTTYPE=text/html:Kim has been a clinical dental hygienist for over 35 years. Kim recently retired as a Professor of Dental Hygiene for 30 years at Johnson County Community College in Overland Park\, KS where she taught subjects that included pharmacology\, local anesthesia\, radiology\, nitrous oxide sedation\, dental anatomy\, oral histology\, ethics\, jurisprudence as well as being the senior dental hygiene clinic coordinator. Kim has worked with many medically compromised patients with various oral health issues.<br />\nKim&#39\;s Wellness Talk on oral health will cover the most common oral diseases (decay\, periodontal disease\, and oral cancer). You will learn about these oral diseases as well as systemic links to oral health. Discussion of various medications and their effects on oral health will be open for questions. Dry mouth/xerostomia will be included in Kim&#39\;s talk and some sample products for dry mouth will be handed out. Please come join Kim in learning more about the importance of your oral health.
LOCATION:The Blue Yoga Studio & Wellness Center 529 N. Main Street #2 Fremont\, NE 68025
UID:e.881.14772
SEQUENCE:3
DTSTAMP:20260421T105752Z
URL:https://chamber.fremontne.org/events/details/kim-stabbe-on-oral-health-and-wellness-5-00-minimum-donation-14772
END:VEVENT

END:VCALENDAR
