BEGIN:VCALENDAR
VERSION:2.0
PRODID:-//ChamberMaster//Event Calendar 2.0//EN
METHOD:PUBLISH
X-PUBLISHED-TTL:P3D
REFRESH-INTERVAL:P3D
CALSCALE:GREGORIAN
BEGIN:VEVENT
DTSTART:20230928T200000Z
DTEND:20230928T220000Z
X-MICROSOFT-CDO-ALLDAYEVENT:FALSE
SUMMARY:Laura Daugard's Retirement Party
DESCRIPTION:Join Us to Celebrate Laura Daugard's Retirement!  \n\n\n\nAfter more than 11 years of dedicated service\, it's time to bid a fond farewell to our esteemed colleague\, Laura\, as she embarks on her well-deserved retirement journey.  \n\n\n\nPlease join us for a heartwarming celebration filled with laughter\, memories\, and heartfelt good wishes:\n\n\n\n  Date: Thursday\, September 28th\n\n  Time: 3:00 PM - 5:00 PM\n\n  Location: Midland University - Private Dining Room\n\n\n\nKindly RSVP by September 26th\, either here on the website or via phone at (402) 721-2641.\n\n\n\nWe can't wait to see you there!
X-ALT-DESC;FMTTYPE=text/html:<div style="text-align: center\;"><span style="font-size:22px\;"><span style="font-family:verdana\;">&#127800\; Join Us to Celebrate Laura Daugard&#39\;s&nbsp\;Retirement! &#127800\;<br />\n<br />\nAfter more than 11 years of dedicated service\, it&#39\;s time to bid a fond farewell to our esteemed colleague\, Laura\, as she embarks on her well-deserved retirement journey. &#127775\;<br />\n<br />\nPlease join us for a heartwarming celebration filled with laughter\, memories\, and heartfelt good wishes:<br />\n<br />\n&#128197\; Date: Thursday\, September 28th<br />\n&#128338\; Time: 3:00 PM - 5:00 PM<br />\n&#128205\; Location: Midland University - Private Dining Room<br />\n<br />\nKindly RSVP by September 26th\, either here on the website or via phone at (402) 721-2641.<br />\n<br />\nWe can&#39\;t wait to see you there! &#127800\;&#127804\;&#127800\;</span></span></div>\n<br />\n&nbsp\;
LOCATION:Midland University - Private Dining Room
UID:e.881.15608
SEQUENCE:3
DTSTAMP:20260421T192702Z
URL:https://chamber.fremontne.org/events/details/laura-daugard-s-retirement-party-15608
END:VEVENT

END:VCALENDAR
