BEGIN:VCALENDAR
VERSION:2.0
PRODID:-//ChamberMaster//Event Calendar 2.0//EN
METHOD:PUBLISH
X-PUBLISHED-TTL:P3D
REFRESH-INTERVAL:P3D
CALSCALE:GREGORIAN
BEGIN:VEVENT
DTSTART:20240924T140000Z
DTEND:20240924T150000Z
X-MICROSOFT-CDO-ALLDAYEVENT:FALSE
SUMMARY:Leadership Fremont Chamber Coffee Hosted by RVR Bank
DESCRIPTION:Leadership Fremont Kickoff Chamber Coffee  \n\nHosted by RVR Bank\n\n  Date: Tuesday\, September 24th\n\n  Time: 9:00 - 10:00 AM\n\n  Location: RVR Bank Main Branch\, 1005 E 23rd St.\n\nJoin us for a special Chamber Coffee as we kick off the 2024-25 Leadership Fremont Class!   This is a fantastic opportunity to meet and welcome our newest class of leaders who will be embarking on an exciting journey of growth and community engagement.  \n\nWhether you're a current member\, a past participant\, or just curious about Leadership Fremont\, this event is the perfect way to connect and show your support. Plus\, enjoy a morning of networking\, delicious coffee\, and great conversations!  \n\nWe can't wait to see you there!
X-ALT-DESC;FMTTYPE=text/html:<p style="text-align: center\;"><span style="font-size:24px\;"><span style="font-family:verdana\;"><strong>Leadership Fremont Kickoff Chamber Coffee &#9749\;</strong><br>\n<strong>Hosted by RVR Bank</strong></span></span></p>\n\n<p style="text-align: center\;"><span style="font-family:verdana\;"><span style="font-size:18px\;">&#128197\; <strong>Date:</strong> Tuesday\, September 24th<br>\n&#9200\; <strong>Time:</strong> 9:00 - 10:00 AM<br>\n&#128205\; <strong>Location:</strong> RVR Bank Main Branch\, 1005 E 23rd St.</span></span></p>\n\n<p style="text-align: center\;"><span style="font-family:verdana\;"><span style="font-size:18px\;">Join us for a special Chamber Coffee as we kick off the 2024-25 Leadership Fremont Class! &#127881\; This is a fantastic opportunity to meet and welcome our newest class of leaders who will be embarking on an exciting journey of growth and community engagement. &#127775\;</span></span></p>\n\n<p style="text-align: center\;"><span style="font-family:verdana\;"><span style="font-size:18px\;">Whether you're a current member\, a past participant\, or just curious about Leadership Fremont\, this event is the perfect way to connect and show your support. Plus\, enjoy a morning of networking\, delicious coffee\, and great conversations! &#129309\;</span></span></p>\n\n<p style="text-align: center\;"><span style="font-family:verdana\;"><span style="font-size:18px\;">We can't wait to see you there! &#9728\;&#65039\;</span></span></p>\n
LOCATION:
UID:e.881.16375
SEQUENCE:3
DTSTAMP:20260423T181841Z
URL:https://chamber.fremontne.org/events/details/leadership-fremont-chamber-coffee-hosted-by-rvr-bank-16375
END:VEVENT

END:VCALENDAR
