BEGIN:VCALENDAR
VERSION:2.0
PRODID:-//ChamberMaster//Event Calendar 2.0//EN
METHOD:PUBLISH
X-PUBLISHED-TTL:P3D
REFRESH-INTERVAL:P3D
CALSCALE:GREGORIAN
BEGIN:VEVENT
DTSTART:20200229T150000Z
DTEND:20200229T190000Z
X-MICROSOFT-CDO-ALLDAYEVENT:FALSE
SUMMARY:Leap Day Hrinig Event
DESCRIPTION:An event so big\, it only happens once every 4 years!\n\n\n\nLeap Day Hiring Event\n\n\n\nStop in the Advance Services\, Inc office \, we will have games\, treats and amazing jobs!
X-ALT-DESC;FMTTYPE=text/html:An event so big\, it only happens once every 4 years!<br />\n<br />\nLeap Day Hiring Event<br />\n<br />\nStop in the Advance Services\, Inc office \, we will have games\, treats and amazing jobs!
LOCATION:Advance Services\, Inc. 1900 E. Military Ave Suite 268 Fremont\, NE 68025
UID:e.881.14770
SEQUENCE:3
DTSTAMP:20260421T115322Z
URL:https://chamber.fremontne.org/events/details/leap-day-hrinig-event-14770
END:VEVENT

END:VCALENDAR
