BEGIN:VCALENDAR
VERSION:2.0
PRODID:-//ChamberMaster//Event Calendar 2.0//EN
METHOD:PUBLISH
X-PUBLISHED-TTL:P3D
REFRESH-INTERVAL:P3D
CALSCALE:GREGORIAN
BEGIN:VEVENT
DTSTART:20240412T140000Z
DTEND:20240412T150000Z
X-MICROSOFT-CDO-ALLDAYEVENT:FALSE
SUMMARY:Legacy Post & Beam Ribbon Cutting
DESCRIPTION:Join us for Legacy Post & Beam's Ribbon Cutting Ceremony!  \n\n\n\n  Date: Friday\, April 12th\, 2024\n\n   Time: 9:00 AM - 10:00 AM\n\n  Location: 3220 E Morningside Rd.\, Fremont\, NE 68025\n\n\n\nWe are thrilled to announce the expansion of Legacy Post & Beam's office space\, and we want to celebrate this milestone with all of you!   \n\n\n\nCome and witness the official opening of their newly expanded office\, and join us in cutting the ribbon as we embark on this exciting journey together.   \n\n\n\nDon't miss out on this opportunity to be a part of our growth and success. See you there!
X-ALT-DESC;FMTTYPE=text/html:<div style="text-align: center\;"><span style="font-size:20px\;"><span style="font-family:verdana\;"><span style="font-size:26px\;"><strong>&#127881\; Join us for Legacy Post &amp\; Beam&#39\;s&nbsp\;Ribbon Cutting Ceremony! &#127872\;</strong></span></span></span><br />\n<br />\n<span style="font-family: verdana\; font-size: 18px\; text-align: center\;">&#128197\;&nbsp\;</span><span style="font-size:20px\;"><span style="font-family:verdana\;">Date: Friday\, April 12th\, 2024</span></span><br />\n<span style="font-family: verdana\; font-size: 18px\; text-align: center\;">&#128338\;&nbsp\;</span>&nbsp\;<span style="font-size:20px\;"><span style="font-family:verdana\;">Time: 9:00 AM - 10:00 AM</span></span><br />\n<span style="font-family: verdana\; font-size: 18px\; text-align: center\;">&#128205\;&nbsp\;</span><span style="font-size:20px\;"><span style="font-family:verdana\;">Location: 3220 E Morningside Rd.\, Fremont\, NE 68025<br />\n<br />\nWe are thrilled to announce the expansion of L</span></span><span style="font-family: verdana\; font-size: 20px\; text-align: center\;">egacy Post &amp\; Beam&#39\;s&nbsp\;</span><span style="font-size:20px\;"><span style="font-family:verdana\;">office space\, and we want to celebrate this milestone with all of you! &#127970\;&#10024\;<br />\n<br />\nCome and witness the official opening of their newly expanded office\, and join us in cutting the ribbon as we embark on this exciting journey together. &#127880\;&#127882\;<br />\n<br />\nDon&#39\;t miss out on this opportunity to be a part of our growth and success. See you there! &#127775\;</span></span></div>\n
LOCATION:
UID:e.881.15930
SEQUENCE:3
DTSTAMP:20260420T231604Z
URL:https://chamber.fremontne.org/events/details/legacy-post-beam-ribbon-cutting-04-12-2024-15930
END:VEVENT

END:VCALENDAR
