BEGIN:VCALENDAR
VERSION:2.0
PRODID:-//ChamberMaster//Event Calendar 2.0//EN
METHOD:PUBLISH
X-PUBLISHED-TTL:P3D
REFRESH-INTERVAL:P3D
CALSCALE:GREGORIAN
BEGIN:VEVENT
DTSTART:20191109T013000Z
DTEND:20191109T033000Z
X-MICROSOFT-CDO-ALLDAYEVENT:FALSE
SUMMARY:LEGALLY BLONDE - Midland Arts
DESCRIPTION:LEGALLY BLONDE - Midland Arts
X-ALT-DESC;FMTTYPE=text/html:LEGALLY BLONDE - Midland Arts
LOCATION:Kimmel Theater
UID:e.881.14665
SEQUENCE:3
DTSTAMP:20260421T150145Z
URL:https://chamber.fremontne.org/events/details/legally-blonde-midland-arts-11-08-2019-14665
END:VEVENT

END:VCALENDAR
