BEGIN:VCALENDAR
VERSION:2.0
PRODID:-//ChamberMaster//Event Calendar 2.0//EN
METHOD:PUBLISH
X-PUBLISHED-TTL:P3D
REFRESH-INTERVAL:P3D
CALSCALE:GREGORIAN
BEGIN:VEVENT
DTSTART:20240723T170000Z
DTEND:20240723T190000Z
X-MICROSOFT-CDO-ALLDAYEVENT:FALSE
SUMMARY:Lemonade Stand
DESCRIPTION:Join Us for a Refreshing Cause!  \n\nThe Fremont Area Chamber is excited to participate in Care Corps' LifeHouse's Lemonade Stand Challenge\, proudly sponsored by RVR Bank. Come support our lemonade stand on Tuesday\, July 23rd\, 2024\, from 12:00pm to 2:00pm at the corner of East 6th St. and Main St.  \n\nEnjoy a delicious cup of lemonade and help us raise funds for the local homeless shelter. All proceeds will go directly to Care Corps' LifeHouse. Let's make a difference together!
X-ALT-DESC;FMTTYPE=text/html:<p style="text-align: center\;"><span style="font-size:24px\;"><span style="font-family:verdana\;">&#127819\; <strong>Join Us for a Refreshing Cause!</strong> &#127819\;</span></span></p>\n\n<p style="text-align: center\;"><span style="font-size:20px\;"><span style="font-family:verdana\;">The Fremont Area Chamber is excited to participate in Care Corps&#39\; LifeHouse&#39\;s Lemonade Stand Challenge\, proudly sponsored by RVR Bank. Come support our lemonade stand on Tuesday\, July 23rd\, 2024\, from 12:00pm to 2:00pm at the corner of East 6th St. and Main St. &#10024\;</span></span></p>\n\n<p style="text-align: center\;"><span style="font-size:20px\;"><span style="font-family:verdana\;">Enjoy a delicious cup of lemonade and help us raise funds for the local homeless shelter. All proceeds will go directly to Care Corps&#39\; LifeHouse. Let&#39\;s make a difference together! &#128155\;&#127819\;</span></span></p>\n
LOCATION:
UID:e.881.16377
SEQUENCE:3
DTSTAMP:20260422T140931Z
URL:https://chamber.fremontne.org/events/details/lemonade-stand-16377
END:VEVENT

END:VCALENDAR
