BEGIN:VCALENDAR
VERSION:2.0
PRODID:-//ChamberMaster//Event Calendar 2.0//EN
METHOD:PUBLISH
X-PUBLISHED-TTL:P3D
REFRESH-INTERVAL:P3D
CALSCALE:GREGORIAN
BEGIN:VEVENT
DTSTART:20240719T140000Z
DTEND:20240719T150000Z
X-MICROSOFT-CDO-ALLDAYEVENT:FALSE
SUMMARY:Levander's Body Shop Ribbon Cutting
DESCRIPTION:Join us for Levander's Body Shop Ribbon Cutting!   \n\n  Date: Friday\, July 19th\, 2024\n\n  Time: 9:00 AM - 10:00 AM\n\n  Location: 1426 E 29th St.\, Fremont\, NE\n\nCome celebrate Levander's Body Shop with us! Enjoy a morning of festivities as we officially cut the ribbon!    This is a great opportunity to meet the team\, tour the shop\, and learn more about the top-notch services offered. \n\nLight refreshments will be served. Bring your friends and family!\n\n\n\nWe look forward to seeing you there!
X-ALT-DESC;FMTTYPE=text/html:<div class="flex flex-grow flex-col max-w-full">\n<div class="min-h-[20px] text-message flex flex-col items-start whitespace-pre-wrap break-words [.text-message+&amp\;]:mt-5 juice:w-full juice:items-end overflow-x-auto gap-2" data-message-author-role="assistant" data-message-id="d536d11e-441f-4120-bb17-3ba3e6981231" dir="auto">\n<div class="flex w-full flex-col gap-1 juice:empty:hidden juice:first:pt-[3px]">\n<div class="markdown prose w-full break-words dark:prose-invert light">\n<p style="text-align: center\;"><span style="font-size:26px\;"><strong><span style="font-family:verdana\;">Join us for Levander&#39\;s Body Shop Ribbon Cutting! &#127881\;&#128663\;</span></strong></span></p>\n\n<p style="text-align: center\;"><span style="font-size:22px\;"><span style="font-family:verdana\;">&#128197\; <strong>Date:</strong> Friday\, July 19th\, 2024<br />\n&#128344\; <strong>Time:</strong> 9:00 AM - 10:00 AM<br />\n&#128205\; <strong>Location:</strong> 1426 E 29th St.\, Fremont\, NE</span></span></p>\n\n<p style="text-align: center\;"><span style="font-size:22px\;"><span style="font-family:verdana\;">Come celebrate Levander&#39\;s Body Shop with us! Enjoy a morning of festivities as we officially cut the ribbon!&nbsp\;</span><span style="font-family: verdana\; text-align: center\;">&#128664\;&#10024\;</span><span style="font-family:verdana\;">&nbsp\;This is a great opportunity to meet the team\, tour the shop\, and learn more about the top-notch services offered.&nbsp\;</span></span></p>\n\n<p style="text-align: center\;"><span style="font-size:22px\;"><span style="font-family:verdana\;">Light refreshments will be served. Bring your friends and family!<br />\n<br />\nWe look forward to seeing you there! &#127872\;&#128295\;</span></span></p>\n\n<p style="text-align: center\;">&nbsp\;</p>\n</div>\n</div>\n</div>\n</div>\n
LOCATION:
UID:e.881.16360
SEQUENCE:3
DTSTAMP:20260422T141417Z
URL:https://chamber.fremontne.org/events/details/levander-s-body-shop-ribbon-cutting-16360
END:VEVENT

END:VCALENDAR
