BEGIN:VCALENDAR
VERSION:2.0
PRODID:-//ChamberMaster//Event Calendar 2.0//EN
METHOD:PUBLISH
X-PUBLISHED-TTL:P3D
REFRESH-INTERVAL:P3D
CALSCALE:GREGORIAN
BEGIN:VEVENT
DTSTART;VALUE=DATE:20181102
DTEND;VALUE=DATE:20181103
TRANSP:TRANSPARENT
X-MICROSOFT-CDO-ALLDAYEVENT:TRUE
SUMMARY:Life Choices Open House
DESCRIPTION:Come see our new location - 230 E 22 Street\, Suite 2
X-ALT-DESC;FMTTYPE=text/html:Come see our new location - 230 E 22 Street\, Suite 2
LOCATION:230 E 22 Street\, Suite 2
UID:e.881.14299
SEQUENCE:3
DTSTAMP:20260422T062516Z
URL:https://chamber.fremontne.org/events/details/life-choices-open-house-14299
END:VEVENT

END:VCALENDAR
