BEGIN:VCALENDAR
VERSION:2.0
PRODID:-//ChamberMaster//Event Calendar 2.0//EN
METHOD:PUBLISH
X-PUBLISHED-TTL:P3D
REFRESH-INTERVAL:P3D
CALSCALE:GREGORIAN
BEGIN:VEVENT
DTSTART:20250314T140000Z
DTEND:20250314T050000Z
X-MICROSOFT-CDO-ALLDAYEVENT:FALSE
SUMMARY:Mainstreet Fremont Chamber Coffee
DESCRIPTION:Join Us for MainStreet Fremont Chamber Coffee!   \n\nKickstart your Friday morning with coffee and conversation at MainStreet Fremont's Chamber Coffee! This is a wonderful opportunity to meet local business owners\, professionals\, and community members in a casual setting.\n\n\n\n  Date: Friday\, March 14th\n\n  Time: 9:00 AM - 10:00 AM\n\n  Location:  92 W 6th St\, Fremont\, NE 68025 \n\n  During the event\, MainStreet Fremont will be honoring past board members and presenting the Nebraska Main Street Network awards. Don't miss this chance to learn more about the exciting work being done in Fremont and to celebrate the individuals who have made a significant impact on our community. \n\nLearn more about the projects and events MainStreet Fremont is working on\, and how they're helping to support and grow our vibrant downtown.\n\nCome by and be part of the conversation let's make some new connections and get inspired together!
X-ALT-DESC;FMTTYPE=text/html:<p data-end="52" data-start="0" style="text-align: center\;"><span style="font-size:26px\;"><strong><span style="font-family:verdana\;">&#9749\;&#10024\; Join Us for MainStreet Fremont Chamber Coffee! &#10024\;&#9749\;</span></strong></span></p>\n\n<p data-end="188" data-start="54" style="text-align: center\;"><span style="font-family: verdana\; font-size: 16px\; text-align: center\;">Kickstart your Friday morning with coffee and conversation at MainStreet Fremont&rsquo\;s Chamber Coffee! This is a wonderful opportunity to meet local business owners\, professionals\, and community members in a casual setting.</span><br />\n<br />\n<span style="font-size:16px\;"><span style="font-family:verdana\;">&#128197\; Date: Friday\, March 14th<br data-end="84" data-start="81" />\n&#9200\; Time: 9:00 AM - 10:00 AM<br data-end="113" data-start="110" />\n&#128205\; Location: </span></span><span class="w8qArf FoJoyf" font-size:="" google="" style="font-weight: 700\; color: rgb(31\, 31\, 31)\; font-family: ">&nbsp\;</span><span style="font-size: 16px\; text-align: center\;">92 W 6th St</span><span style="font-size:16px\;"><span class="LrzXr" google="" style="color: var(--bbQxAb)\; font-family: "><span style="font-family:verdana\;">\,</span> Fremont\, NE 68025&nbsp\;</span></span></p>\n\n<p data-end="411" data-start="190" style="text-align: center\;">&#127941\;&#10024\;<span style="font-size:16px\;"><span style="font-family:verdana\;">During the event\, MainStreet Fremont will be honoring past board members and presenting the&nbsp\;Nebraska Main Street Network awards. Don&rsquo\;t miss this chance to learn more about the exciting work being done in Fremont and to celebrate the individuals who have made a significant impact on our community.</span>&#10024\;</span></p>\n\n<p data-end="671" data-start="413" style="text-align: center\;"><span style="font-size:16px\;"><span style="font-family:verdana\;">Learn more about the projects and events MainStreet Fremont is working on\, and how they&rsquo\;re helping to support and grow our vibrant downtown.</span></span></p>\n\n<p data-end="774" data-is-last-node="" data-start="673" style="text-align: center\;"><span style="font-size:16px\;"><span style="font-family:verdana\;">Come by and be part of the conversation&mdash\;let&rsquo\;s make some new connections and get inspired together! &#127775\;</span></span></p>\n
LOCATION:
UID:e.881.16611
SEQUENCE:3
DTSTAMP:20260421T013306Z
URL:https://chamber.fremontne.org/events/details/mainstreet-fremont-chamber-coffee-16611
END:VEVENT

END:VCALENDAR
