BEGIN:VCALENDAR
VERSION:2.0
PRODID:-//ChamberMaster//Event Calendar 2.0//EN
METHOD:PUBLISH
X-PUBLISHED-TTL:P3D
REFRESH-INTERVAL:P3D
CALSCALE:GREGORIAN
BEGIN:VEVENT
DTSTART:20180928T140000Z
DTEND:20180928T150000Z
X-MICROSOFT-CDO-ALLDAYEVENT:FALSE
SUMMARY:MainStreet of Fremont Coffee
DESCRIPTION:
X-ALT-DESC;FMTTYPE=text/html:
LOCATION:529 North Main Street\, Suite 1 Fremont\, NE
UID:e.881.14162
SEQUENCE:3
DTSTAMP:20260422T085518Z
URL:https://chamber.fremontne.org/events/details/mainstreet-of-fremont-coffee-14162
END:VEVENT

END:VCALENDAR
