BEGIN:VCALENDAR
VERSION:2.0
PRODID:-//ChamberMaster//Event Calendar 2.0//EN
METHOD:PUBLISH
X-PUBLISHED-TTL:P3D
REFRESH-INTERVAL:P3D
CALSCALE:GREGORIAN
BEGIN:VEVENT
DTSTART:20181107T020000Z
DTEND:20181107T040000Z
X-MICROSOFT-CDO-ALLDAYEVENT:FALSE
SUMMARY:Men's Basketball Vs. Concordia University
DESCRIPTION:Cheer on the Midland University Warriors Men's Basketball team as they take on Concordia University
X-ALT-DESC;FMTTYPE=text/html:<p><span style="font-family:arial\; font-size:10pt">Cheer on the Midland University Warriors Men&rsquo\;s Basketball team as they take on Concordia University&nbsp\;</span></p>\n\n<div>&nbsp\;</div>\n
LOCATION:Midland University's Wikert Event Center- North Clarkson Street\, Fremont\, NE 68025
UID:e.881.14277
SEQUENCE:3
DTSTAMP:20260422T062648Z
URL:https://chamber.fremontne.org/events/details/men-s-basketball-vs-concordia-university-14277
END:VEVENT

END:VCALENDAR
