BEGIN:VCALENDAR
VERSION:2.0
PRODID:-//ChamberMaster//Event Calendar 2.0//EN
METHOD:PUBLISH
X-PUBLISHED-TTL:P3D
REFRESH-INTERVAL:P3D
CALSCALE:GREGORIAN
BEGIN:VEVENT
DTSTART:20190912T003000Z
DTEND:20190912T023000Z
X-MICROSOFT-CDO-ALLDAYEVENT:FALSE
SUMMARY:Men's Soccer
DESCRIPTION:Come join us as we cheer on our Men's Soccer team
X-ALT-DESC;FMTTYPE=text/html:Come join us as we cheer on our Men&#39\;s Soccer team&nbsp\;
LOCATION:Heedum Field at 7:30 pm
UID:e.881.14605
SEQUENCE:3
DTSTAMP:20260421T183040Z
URL:https://chamber.fremontne.org/events/details/men-s-soccer-14605
END:VEVENT

END:VCALENDAR
