BEGIN:VCALENDAR
VERSION:2.0
PRODID:-//ChamberMaster//Event Calendar 2.0//EN
METHOD:PUBLISH
X-PUBLISHED-TTL:P3D
REFRESH-INTERVAL:P3D
CALSCALE:GREGORIAN
BEGIN:VEVENT
DTSTART:20190829T003000Z
DTEND:20190829T023000Z
X-MICROSOFT-CDO-ALLDAYEVENT:FALSE
SUMMARY:Men's Soccer vs Grand View
DESCRIPTION:Help us cheer on our Men's Soccer team as they take on Grand view
X-ALT-DESC;FMTTYPE=text/html:Help us cheer on our Men&#39\;s Soccer team as they take on Grand view&nbsp\;
LOCATION:Heedum Field
UID:e.881.14598
SEQUENCE:3
DTSTAMP:20260421T185120Z
URL:https://chamber.fremontne.org/events/details/men-s-soccer-vs-grand-view-14598
END:VEVENT

END:VCALENDAR
