BEGIN:VCALENDAR
VERSION:2.0
PRODID:-//ChamberMaster//Event Calendar 2.0//EN
METHOD:PUBLISH
X-PUBLISHED-TTL:P3D
REFRESH-INTERVAL:P3D
CALSCALE:GREGORIAN
BEGIN:VEVENT
DTSTART:20200129T160000Z
DTEND:20200129T220000Z
X-MICROSOFT-CDO-ALLDAYEVENT:FALSE
SUMMARY:Midland Blood Drive - Tshirts for Presenting Donors While Supplies Last
DESCRIPTION:Midland University Blood Drive to support the need for blood donations!
X-ALT-DESC;FMTTYPE=text/html:Midland University Blood Drive to support the need for blood donations!
LOCATION:Wikert Event Center
UID:e.881.14751
SEQUENCE:3
DTSTAMP:20260421T121207Z
URL:https://chamber.fremontne.org/events/details/midland-blood-drive-tshirts-for-presenting-donors-while-supplies-last-14751
END:VEVENT

END:VCALENDAR
