BEGIN:VCALENDAR
VERSION:2.0
PRODID:-//ChamberMaster//Event Calendar 2.0//EN
METHOD:PUBLISH
X-PUBLISHED-TTL:P3D
REFRESH-INTERVAL:P3D
CALSCALE:GREGORIAN
BEGIN:VEVENT
DTSTART:20200118T220000Z
DTEND:20200119T000000Z
X-MICROSOFT-CDO-ALLDAYEVENT:FALSE
SUMMARY:Midland Men's Basketball - Home Game vs Dakota Wesleyan.
DESCRIPTION:Midland Men's Basketball - Home Game vs Dakota Wesleyan.
X-ALT-DESC;FMTTYPE=text/html:Midland Men&#39\;s Basketball - Home Game vs Dakota Wesleyan.
LOCATION:Wikert Event Center.
UID:e.881.14651
SEQUENCE:3
DTSTAMP:20260421T121331Z
URL:https://chamber.fremontne.org/events/details/midland-men-s-basketball-home-game-vs-dakota-wesleyan-14651
END:VEVENT

END:VCALENDAR
