BEGIN:VCALENDAR
VERSION:2.0
PRODID:-//ChamberMaster//Event Calendar 2.0//EN
METHOD:PUBLISH
X-PUBLISHED-TTL:P3D
REFRESH-INTERVAL:P3D
CALSCALE:GREGORIAN
BEGIN:VEVENT
DTSTART:20191214T220000Z
DTEND:20191215T010000Z
X-MICROSOFT-CDO-ALLDAYEVENT:FALSE
SUMMARY:Midland Men's Basketball - Home Game vs Northwestern.
DESCRIPTION:Midland Men's Basketball - Home Game vs Northwestern.
X-ALT-DESC;FMTTYPE=text/html:Midland Men&#39\;s Basketball - Home Game vs Northwestern.
LOCATION:Wikert Event Center.
UID:e.881.14647
SEQUENCE:3
DTSTAMP:20260421T133444Z
URL:https://chamber.fremontne.org/events/details/midland-men-s-basketball-home-game-vs-northwestern-14647
END:VEVENT

END:VCALENDAR
