BEGIN:VCALENDAR
VERSION:2.0
PRODID:-//ChamberMaster//Event Calendar 2.0//EN
METHOD:PUBLISH
X-PUBLISHED-TTL:P3D
REFRESH-INTERVAL:P3D
CALSCALE:GREGORIAN
BEGIN:VEVENT
DTSTART:20191106T010000Z
DTEND:20191106T040000Z
X-MICROSOFT-CDO-ALLDAYEVENT:FALSE
SUMMARY:Midland Men's Basketball - Home Game vs York.
DESCRIPTION:Midland Men's Basketball - Home Game vs York.
X-ALT-DESC;FMTTYPE=text/html:Midland Men&#39\;s Basketball - Home Game vs York.
LOCATION:Wikert Event Center.
UID:e.881.14643
SEQUENCE:3
DTSTAMP:20260421T150236Z
URL:https://chamber.fremontne.org/events/details/midland-men-s-basketball-home-game-vs-york-14643
END:VEVENT

END:VCALENDAR
