BEGIN:VCALENDAR
VERSION:2.0
PRODID:-//ChamberMaster//Event Calendar 2.0//EN
METHOD:PUBLISH
X-PUBLISHED-TTL:P3D
REFRESH-INTERVAL:P3D
CALSCALE:GREGORIAN
BEGIN:VEVENT
DTSTART:20191020T000000Z
DTEND:20191020T030000Z
X-MICROSOFT-CDO-ALLDAYEVENT:FALSE
SUMMARY:Midland Men's Basketball - Home Opener vs Bethany College.
DESCRIPTION:Midland Men's Basketball - Home Opener vs Bethany College.
X-ALT-DESC;FMTTYPE=text/html:Midland Men&#39\;s Basketball - Home Opener vs Bethany College.
LOCATION:Wikert Event Center.
UID:e.881.14642
SEQUENCE:3
DTSTAMP:20260421T161952Z
URL:https://chamber.fremontne.org/events/details/midland-men-s-basketball-home-opener-vs-bethany-college-14642
END:VEVENT

END:VCALENDAR
