BEGIN:VCALENDAR
VERSION:2.0
PRODID:-//ChamberMaster//Event Calendar 2.0//EN
METHOD:PUBLISH
X-PUBLISHED-TTL:P3D
REFRESH-INTERVAL:P3D
CALSCALE:GREGORIAN
BEGIN:VEVENT
DTSTART;VALUE=DATE:20210115
DTEND;VALUE=DATE:20210117
TRANSP:TRANSPARENT
X-MICROSOFT-CDO-ALLDAYEVENT:TRUE
SUMMARY:Midland Men's Hockey @ Maryville University
DESCRIPTION:Cheer on the Warriors as they take on Maryville University in St. Louis\, MO!
X-ALT-DESC;FMTTYPE=text/html:Cheer on the Warriors as they take on Maryville University in St. Louis\, MO!<gdiv></gdiv>
LOCATION:
UID:e.881.14947
SEQUENCE:3
DTSTAMP:20260419T114911Z
URL:https://chamber.fremontne.org/events/details/midland-men-s-hockey-maryville-university-14947
END:VEVENT

END:VCALENDAR
