BEGIN:VCALENDAR
VERSION:2.0
PRODID:-//ChamberMaster//Event Calendar 2.0//EN
METHOD:PUBLISH
X-PUBLISHED-TTL:P3D
REFRESH-INTERVAL:P3D
CALSCALE:GREGORIAN
BEGIN:VEVENT
DTSTART:20191109T014500Z
DTEND:20191109T034500Z
X-MICROSOFT-CDO-ALLDAYEVENT:FALSE
SUMMARY:Midland Men's Hockey vs Creighton University
DESCRIPTION:Midland Men's Hockey vs Creighton University
X-ALT-DESC;FMTTYPE=text/html:Midland Men&#39\;s Hockey vs Creighton University
LOCATION:Sidner Ice Arena
UID:e.881.14681
SEQUENCE:3
DTSTAMP:20260421T150150Z
URL:https://chamber.fremontne.org/events/details/midland-men-s-hockey-vs-creighton-university-14681
END:VEVENT

END:VCALENDAR
