BEGIN:VCALENDAR
VERSION:2.0
PRODID:-//ChamberMaster//Event Calendar 2.0//EN
METHOD:PUBLISH
X-PUBLISHED-TTL:P3D
REFRESH-INTERVAL:P3D
CALSCALE:GREGORIAN
BEGIN:VEVENT
DTSTART:20200126T013000Z
DTEND:20200126T033000Z
X-MICROSOFT-CDO-ALLDAYEVENT:FALSE
SUMMARY:Midland Men's Hockey vs McKendree University
DESCRIPTION:Midland Men's Hockey vs McKendree University
X-ALT-DESC;FMTTYPE=text/html:Midland Men&#39\;s Hockey vs McKendree University
LOCATION:Sidner Ice Arena
UID:e.881.14689
SEQUENCE:3
DTSTAMP:20260421T133355Z
URL:https://chamber.fremontne.org/events/details/midland-men-s-hockey-vs-mckendree-university-01-25-2020-14689
END:VEVENT

END:VCALENDAR
