BEGIN:VCALENDAR
VERSION:2.0
PRODID:-//ChamberMaster//Event Calendar 2.0//EN
METHOD:PUBLISH
X-PUBLISHED-TTL:P3D
REFRESH-INTERVAL:P3D
CALSCALE:GREGORIAN
BEGIN:VEVENT
DTSTART:20200125T014500Z
DTEND:20200125T034500Z
X-MICROSOFT-CDO-ALLDAYEVENT:FALSE
SUMMARY:Midland Men's Hockey vs McKendree University
DESCRIPTION:Midland Men's Hockey vs McKendree University
X-ALT-DESC;FMTTYPE=text/html:Midland Men&#39\;s Hockey vs McKendree University
LOCATION:Sidner Ice Arena
UID:e.881.14688
SEQUENCE:3
DTSTAMP:20260421T133258Z
URL:https://chamber.fremontne.org/events/details/midland-men-s-hockey-vs-mckendree-university-14688
END:VEVENT

END:VCALENDAR
