BEGIN:VCALENDAR
VERSION:2.0
PRODID:-//ChamberMaster//Event Calendar 2.0//EN
METHOD:PUBLISH
X-PUBLISHED-TTL:P3D
REFRESH-INTERVAL:P3D
CALSCALE:GREGORIAN
BEGIN:VEVENT
DTSTART:20200118T014500Z
DTEND:20200118T034500Z
X-MICROSOFT-CDO-ALLDAYEVENT:FALSE
SUMMARY:Midland Men's Hockey vs University of Oklahoma
DESCRIPTION:Midland Men's Hockey vs University of Oklahoma
X-ALT-DESC;FMTTYPE=text/html:Midland Men&#39\;s Hockey vs University of Oklahoma
LOCATION:Sidner Ice Arena
UID:e.881.14686
SEQUENCE:3
DTSTAMP:20260421T133450Z
URL:https://chamber.fremontne.org/events/details/midland-men-s-hockey-vs-university-of-oklahoma-14686
END:VEVENT

END:VCALENDAR
