BEGIN:VCALENDAR
VERSION:2.0
PRODID:-//ChamberMaster//Event Calendar 2.0//EN
METHOD:PUBLISH
X-PUBLISHED-TTL:P3D
REFRESH-INTERVAL:P3D
CALSCALE:GREGORIAN
BEGIN:VEVENT
DTSTART:20191012T203000Z
DTEND:20191012T230000Z
X-MICROSOFT-CDO-ALLDAYEVENT:FALSE
SUMMARY:Midland Men's Soccer Game
DESCRIPTION:Home Game - Midland Men's Soccer.
X-ALT-DESC;FMTTYPE=text/html:Home Game - Midland Men&#39\;s Soccer.
LOCATION:Heedum Field.
UID:e.881.14639
SEQUENCE:3
DTSTAMP:20260421T161417Z
URL:https://chamber.fremontne.org/events/details/midland-men-s-soccer-game-14639
END:VEVENT

END:VCALENDAR
