BEGIN:VCALENDAR
VERSION:2.0
PRODID:-//ChamberMaster//Event Calendar 2.0//EN
METHOD:PUBLISH
X-PUBLISHED-TTL:P3D
REFRESH-INTERVAL:P3D
CALSCALE:GREGORIAN
BEGIN:VEVENT
DTSTART:20191026T203000Z
DTEND:20191026T230000Z
X-MICROSOFT-CDO-ALLDAYEVENT:FALSE
SUMMARY:Midland Men's Soccer - Home Game vs Northwestern.
DESCRIPTION:Midland Men's Soccer - Home Game.
X-ALT-DESC;FMTTYPE=text/html:Midland Men&#39\;s Soccer - Home Game.
LOCATION:Heedum Field.
UID:e.881.14641
SEQUENCE:3
DTSTAMP:20260421T172124Z
URL:https://chamber.fremontne.org/events/details/midland-men-s-soccer-home-game-vs-northwestern-14641
END:VEVENT

END:VCALENDAR
