BEGIN:VCALENDAR
VERSION:2.0
PRODID:-//ChamberMaster//Event Calendar 2.0//EN
METHOD:PUBLISH
X-PUBLISHED-TTL:P3D
REFRESH-INTERVAL:P3D
CALSCALE:GREGORIAN
BEGIN:VEVENT
DTSTART:20191026T190000Z
DTEND:20191026T220000Z
X-MICROSOFT-CDO-ALLDAYEVENT:FALSE
SUMMARY:Midland Men's Swimming vs Iowa Lakes CC
DESCRIPTION:Midland Men's Swimming vs Iowa Lakes CC
X-ALT-DESC;FMTTYPE=text/html:Midland Men&#39\;s Swimming vs Iowa Lakes CC
LOCATION:Dillon Family Aquatic Center
UID:e.881.14657
SEQUENCE:3
DTSTAMP:20260421T155951Z
URL:https://chamber.fremontne.org/events/details/midland-men-s-swimming-vs-iowa-lakes-cc-14657
END:VEVENT

END:VCALENDAR
