BEGIN:VCALENDAR
VERSION:2.0
PRODID:-//ChamberMaster//Event Calendar 2.0//EN
METHOD:PUBLISH
X-PUBLISHED-TTL:P3D
REFRESH-INTERVAL:P3D
CALSCALE:GREGORIAN
BEGIN:VEVENT
DTSTART:20191102T200000Z
DTEND:20191102T230000Z
X-MICROSOFT-CDO-ALLDAYEVENT:FALSE
SUMMARY:Midland Men's Swimming vs Olivet Nazarene
DESCRIPTION:Midland Men's Swimming vs Olivet Nazarene
X-ALT-DESC;FMTTYPE=text/html:Midland Men&#39\;s Swimming vs Olivet Nazarene
LOCATION:Dillon Family Aquatic Center
UID:e.881.14659
SEQUENCE:3
DTSTAMP:20260421T150333Z
URL:https://chamber.fremontne.org/events/details/midland-men-s-swimming-vs-olivet-nazarene-14659
END:VEVENT

END:VCALENDAR
