BEGIN:VCALENDAR
VERSION:2.0
PRODID:-//ChamberMaster//Event Calendar 2.0//EN
METHOD:PUBLISH
X-PUBLISHED-TTL:P3D
REFRESH-INTERVAL:P3D
CALSCALE:GREGORIAN
BEGIN:VEVENT
DTSTART:20180929T160000Z
DTEND:20180929T180000Z
X-MICROSOFT-CDO-ALLDAYEVENT:FALSE
SUMMARY:Midland University Community Tailgate
DESCRIPTION:Join us this Saturday from 11:00 am - 1:00 pm for a Community Tailgate prior to the Homecoming Game. We will have food provided by Huey's Smokehouse BBQ. Tailgate sponsored by First State Bank and Trust.\n\n\n\nIt's a great day to be a Warrior!
X-ALT-DESC;FMTTYPE=text/html:<span style="color:rgb(29\, 33\, 41)\; font-family:helvetica\,arial\,sans-serif\; font-size:14px">Join us this Saturday from 11:00 am - 1:00 pm for a Community Tailgate prior to the Homecoming Game. We will have food provided by Huey&#39\;s Smokehouse BBQ. Tailgate sponsored by First State Bank and Trust.<br />\n<br />\nIt&#39\;s a great day to be a Warrior!</span>
LOCATION:Heedum Field
UID:e.881.14264
SEQUENCE:3
DTSTAMP:20260422T085110Z
URL:https://chamber.fremontne.org/events/details/midland-university-community-tailgate-14264
END:VEVENT

END:VCALENDAR
