BEGIN:VCALENDAR
VERSION:2.0
PRODID:-//ChamberMaster//Event Calendar 2.0//EN
METHOD:PUBLISH
X-PUBLISHED-TTL:P3D
REFRESH-INTERVAL:P3D
CALSCALE:GREGORIAN
BEGIN:VEVENT
DTSTART:20181020T180000Z
DTEND:20181020T210000Z
X-MICROSOFT-CDO-ALLDAYEVENT:FALSE
SUMMARY:Midland University Football Game
DESCRIPTION:Come cheer on the Midland University Warriors as they take on Dakota Wesleyan University on Saturday\, October 20th at Heedum Field.
X-ALT-DESC;FMTTYPE=text/html:Come cheer on the Midland University Warriors as they take on Dakota Wesleyan University on Saturday\, October 20th at Heedum Field.&nbsp\;
LOCATION:Heedum Field- East Military Avenue
UID:e.881.14271
SEQUENCE:3
DTSTAMP:20260422T074025Z
URL:https://chamber.fremontne.org/events/details/midland-university-football-game-14271
END:VEVENT

END:VCALENDAR
