BEGIN:VCALENDAR
VERSION:2.0
PRODID:-//ChamberMaster//Event Calendar 2.0//EN
METHOD:PUBLISH
X-PUBLISHED-TTL:P3D
REFRESH-INTERVAL:P3D
CALSCALE:GREGORIAN
BEGIN:VEVENT
DTSTART:20181110T190000Z
DTEND:20181110T220000Z
X-MICROSOFT-CDO-ALLDAYEVENT:FALSE
SUMMARY:Midland University Football Game- Veteran's Get in Free
DESCRIPTION:Cheer on Midland University as they take on Dordt College on November 10\, 2018 at 1:00.  In honor of Veteran's Day\, all Veteran's will recieve FREE admission to this game.  Hand off for Veteran's: Warrior to Warrior will be taking place prior to the football game with the relay ending at Heedum Field.  The DAV will be presenting colors for this game.
X-ALT-DESC;FMTTYPE=text/html:Cheer on Midland University as they take on Dordt College on November 10\, 2018 at 1:00.&nbsp\; In honor of Veteran&#39\;s Day\, all Veteran&#39\;s will recieve FREE admission to this game.&nbsp\; Hand off for Veteran&#39\;s: Warrior to Warrior will be taking place prior to the football game with the relay ending at Heedum Field.&nbsp\; The DAV will be presenting colors for this game.
LOCATION:Heedum Field- East Military Avenue
UID:e.881.14273
SEQUENCE:3
DTSTAMP:20260422T062839Z
URL:https://chamber.fremontne.org/events/details/midland-university-football-game-veteran-s-get-in-free-14273
END:VEVENT

END:VCALENDAR
