BEGIN:VCALENDAR
VERSION:2.0
PRODID:-//ChamberMaster//Event Calendar 2.0//EN
METHOD:PUBLISH
X-PUBLISHED-TTL:P3D
REFRESH-INTERVAL:P3D
CALSCALE:GREGORIAN
BEGIN:VEVENT
DTSTART:20181006T200000Z
DTEND:20181006T220000Z
X-MICROSOFT-CDO-ALLDAYEVENT:FALSE
SUMMARY:Midland University Home Volleyball vs. Briar Cliff University
DESCRIPTION:Come cheer on the Warriors as they take on Briar Cliff University.
X-ALT-DESC;FMTTYPE=text/html:Come cheer on the Warriors as they take on Briar Cliff University.&nbsp\;
LOCATION:Midland University Wikert Event Center 900 N Clarkson Street Fremont\, NE 68025
UID:e.881.12995
SEQUENCE:3
DTSTAMP:20260422T091329Z
URL:https://chamber.fremontne.org/events/details/midland-university-home-volleyball-vs-briar-cliff-university-12995
END:VEVENT

END:VCALENDAR
