BEGIN:VCALENDAR
VERSION:2.0
PRODID:-//ChamberMaster//Event Calendar 2.0//EN
METHOD:PUBLISH
X-PUBLISHED-TTL:P3D
REFRESH-INTERVAL:P3D
CALSCALE:GREGORIAN
BEGIN:VEVENT
DTSTART:20180831T000000Z
DTEND:20180831T020000Z
X-MICROSOFT-CDO-ALLDAYEVENT:FALSE
SUMMARY:Midland University Home Volleyball vs. Carroll College
DESCRIPTION:Come cheer on the Warriors as they take on Carroll College.
X-ALT-DESC;FMTTYPE=text/html:Come cheer on the Warriors as they take on Carroll College.&nbsp\;
LOCATION:Midland University Wikert Event Center 900 N Clarkson Street Fremont\, NE 68025
UID:e.881.12990
SEQUENCE:3
DTSTAMP:20260422T113505Z
URL:https://chamber.fremontne.org/events/details/midland-university-home-volleyball-vs-carroll-college-12990
END:VEVENT

END:VCALENDAR
