BEGIN:VCALENDAR
VERSION:2.0
PRODID:-//ChamberMaster//Event Calendar 2.0//EN
METHOD:PUBLISH
X-PUBLISHED-TTL:P3D
REFRESH-INTERVAL:P3D
CALSCALE:GREGORIAN
BEGIN:VEVENT
DTSTART:20180922T200000Z
DTEND:20180922T220000Z
X-MICROSOFT-CDO-ALLDAYEVENT:FALSE
SUMMARY:Midland University Home Volleyball vs. Dordt College
DESCRIPTION:Cheer on the Warriors as they take on Dordt College.  This is also Midland University Volleyball Alumni night. If you are a volleyball alumni and would like more information\, please call 402.941.6503.
X-ALT-DESC;FMTTYPE=text/html:Cheer on the Warriors as they take on Dordt College.&nbsp\; This is also Midland University Volleyball Alumni night. If you are a volleyball alumni and would like more information\, please call 402.941.6503.
LOCATION:Midland University Wikert Event Center 900 N Clarkson Street Fremont\, NE 68025
UID:e.881.12994
SEQUENCE:3
DTSTAMP:20260422T085555Z
URL:https://chamber.fremontne.org/events/details/midland-university-home-volleyball-vs-dordt-college-12994
END:VEVENT

END:VCALENDAR
