BEGIN:VCALENDAR
VERSION:2.0
PRODID:-//ChamberMaster//Event Calendar 2.0//EN
METHOD:PUBLISH
X-PUBLISHED-TTL:P3D
REFRESH-INTERVAL:P3D
CALSCALE:GREGORIAN
BEGIN:VEVENT
DTSTART:20180919T003000Z
DTEND:20180919T023000Z
X-MICROSOFT-CDO-ALLDAYEVENT:FALSE
SUMMARY:Midland University Home Volleyball vs. Hastings College- Service Night
DESCRIPTION:Tonight is service night!  Come cheer on the Warriors as they take on Hastings College.  Help Midland honor service men and women as they sit in the center suite to enjoy this game!
X-ALT-DESC;FMTTYPE=text/html:Tonight is service night!&nbsp\; Come cheer on the Warriors as they take on Hastings College.&nbsp\; Help Midland honor service men and women as they sit in the center suite to enjoy this game!
LOCATION:Midland University Wikert Event Center 900 N Clarkson Street Fremont\, NE 68025
UID:e.881.12993
SEQUENCE:3
DTSTAMP:20260422T090634Z
URL:https://chamber.fremontne.org/events/details/midland-university-home-volleyball-vs-hastings-college-service-night-12993
END:VEVENT

END:VCALENDAR
