BEGIN:VCALENDAR
VERSION:2.0
PRODID:-//ChamberMaster//Event Calendar 2.0//EN
METHOD:PUBLISH
X-PUBLISHED-TTL:P3D
REFRESH-INTERVAL:P3D
CALSCALE:GREGORIAN
BEGIN:VEVENT
DTSTART:20180906T003000Z
DTEND:20180906T023000Z
X-MICROSOFT-CDO-ALLDAYEVENT:FALSE
SUMMARY:Midland University Home Volleyball vs. Morningside
DESCRIPTION:Cheer on the Warriors as they take on Morningside College at this year's conference opener!
X-ALT-DESC;FMTTYPE=text/html:Cheer on the Warriors as they take on Morningside College at this year&#39\;s conference opener!
LOCATION:Midland University Wikert Event Center 900 N Clarkson Street Fremont\, NE 68025
UID:e.881.12991
SEQUENCE:3
DTSTAMP:20260422T085217Z
URL:https://chamber.fremontne.org/events/details/midland-university-home-volleyball-vs-morningside-12991
END:VEVENT

END:VCALENDAR
