BEGIN:VCALENDAR
VERSION:2.0
PRODID:-//ChamberMaster//Event Calendar 2.0//EN
METHOD:PUBLISH
X-PUBLISHED-TTL:P3D
REFRESH-INTERVAL:P3D
CALSCALE:GREGORIAN
BEGIN:VEVENT
DTSTART:20180907T003000Z
DTEND:20180907T023000Z
X-MICROSOFT-CDO-ALLDAYEVENT:FALSE
SUMMARY:Midland University Home Volleyball vs. Mount Marty College
DESCRIPTION:Cheer on the Warrior Volleyball team as they take on Mount Marty College.
X-ALT-DESC;FMTTYPE=text/html:Cheer on the Warrior Volleyball team as they take on Mount Marty College.&nbsp\;
LOCATION:Midland University Wikert Event Center 900 N Clarkson Street Fremont\, NE 68025
UID:e.881.12992
SEQUENCE:3
DTSTAMP:20260422T091603Z
URL:https://chamber.fremontne.org/events/details/midland-university-home-volleyball-vs-mount-marty-college-12992
END:VEVENT

END:VCALENDAR
