BEGIN:VCALENDAR
VERSION:2.0
PRODID:-//ChamberMaster//Event Calendar 2.0//EN
METHOD:PUBLISH
X-PUBLISHED-TTL:P3D
REFRESH-INTERVAL:P3D
CALSCALE:GREGORIAN
BEGIN:VEVENT
DTSTART:20180823T000000Z
DTEND:20180823T020000Z
X-MICROSOFT-CDO-ALLDAYEVENT:FALSE
SUMMARY:Midland University Home Volleyball Vs. Peru State
DESCRIPTION:Come cheer on the Warriors as they take on Peru State in the season home opener!
X-ALT-DESC;FMTTYPE=text/html:Come cheer on the Warriors as they take on Peru State in the season home opener!&nbsp\;
LOCATION:Midland University Wikert Event Center 900 N Clarkson Street Fremont\, NE 68025
UID:e.881.12989
SEQUENCE:3
DTSTAMP:20260422T113348Z
URL:https://chamber.fremontne.org/events/details/midland-university-home-volleyball-vs-peru-state-12989
END:VEVENT

END:VCALENDAR
