BEGIN:VCALENDAR
VERSION:2.0
PRODID:-//ChamberMaster//Event Calendar 2.0//EN
METHOD:PUBLISH
X-PUBLISHED-TTL:P3D
REFRESH-INTERVAL:P3D
CALSCALE:GREGORIAN
BEGIN:VEVENT
DTSTART:20181124T220000Z
DTEND:20181125T000000Z
X-MICROSOFT-CDO-ALLDAYEVENT:FALSE
SUMMARY:Midland University Men’s Basketball Game vs. Dakota State University - Draemel Classic
DESCRIPTION:Cheer on the Midland University Warriors Men's Basketball team as they take on Dakota State University during the annual Draemel Classic.
X-ALT-DESC;FMTTYPE=text/html:<span style="font-family:arial\; font-size:10pt">Cheer on the Midland University Warriors Men&rsquo\;s Basketball team as they take on&nbsp\;</span>Dakota State University during the annual Draemel Classic.
LOCATION:Midland University's Wikert Event Center- North Clarkson Street\, Fremont\, NE 68025
UID:e.881.14280
SEQUENCE:3
DTSTAMP:20260422T062814Z
URL:https://chamber.fremontne.org/events/details/midland-university-men-s-basketball-game-vs-dakota-state-university-draemel-classic-14280
END:VEVENT

END:VCALENDAR
