BEGIN:VCALENDAR
VERSION:2.0
PRODID:-//ChamberMaster//Event Calendar 2.0//EN
METHOD:PUBLISH
X-PUBLISHED-TTL:P3D
REFRESH-INTERVAL:P3D
CALSCALE:GREGORIAN
BEGIN:VEVENT
DTSTART:20181215T220000Z
DTEND:20181216T000000Z
X-MICROSOFT-CDO-ALLDAYEVENT:FALSE
SUMMARY:Midland University Men's Basketball game vs. Dordt College
DESCRIPTION:Cheer on the Warriors as they take on the Dordt Defenders.
X-ALT-DESC;FMTTYPE=text/html:Cheer on the Warriors as they take on the Dordt Defenders.&nbsp\;
LOCATION:Midland University's Wikert Event Center- North Clarkson Street\, Fremont\, NE 68025
UID:e.881.14283
SEQUENCE:3
DTSTAMP:20260422T050546Z
URL:https://chamber.fremontne.org/events/details/midland-university-men-s-basketball-game-vs-dordt-college-14283
END:VEVENT

END:VCALENDAR
