BEGIN:VCALENDAR
VERSION:2.0
PRODID:-//ChamberMaster//Event Calendar 2.0//EN
METHOD:PUBLISH
X-PUBLISHED-TTL:P3D
REFRESH-INTERVAL:P3D
CALSCALE:GREGORIAN
BEGIN:VEVENT
DTSTART:20190123T010000Z
DTEND:20190123T030000Z
X-MICROSOFT-CDO-ALLDAYEVENT:FALSE
SUMMARY:Midland University Men’s Basketball Game vs. Faith Baptist
DESCRIPTION:Cheer on the Midland University Warriors Men's Basketball team as they take on  Faith Baptist.
X-ALT-DESC;FMTTYPE=text/html:<span style="font-family:arial\; font-size:10pt">Cheer on the Midland University Warriors Men&rsquo\;s Basketball team as they take on </span>&nbsp\;Faith Baptist.&nbsp\;
LOCATION:Midland University's Wikert Event Center- North Clarkson Street\, Fremont\, NE 68025
UID:e.881.14287
SEQUENCE:3
DTSTAMP:20260422T033821Z
URL:https://chamber.fremontne.org/events/details/midland-university-men-s-basketball-game-vs-faith-baptist-14287
END:VEVENT

END:VCALENDAR
