BEGIN:VCALENDAR
VERSION:2.0
PRODID:-//ChamberMaster//Event Calendar 2.0//EN
METHOD:PUBLISH
X-PUBLISHED-TTL:P3D
REFRESH-INTERVAL:P3D
CALSCALE:GREGORIAN
BEGIN:VEVENT
DTSTART:20190216T220000Z
DTEND:20190217T000000Z
X-MICROSOFT-CDO-ALLDAYEVENT:FALSE
SUMMARY:Midland University Men’s Basketball Game vs. Northwestern College
DESCRIPTION:Cheer on the Midland University Warriors Men's Basketball team as they take on Northwestern College.
X-ALT-DESC;FMTTYPE=text/html:<p><span style="font-family:arial\; font-size:10pt">Cheer on the Midland University Warriors Men&rsquo\;s Basketball team as they take on&nbsp\;</span>Northwestern College.</p>\n\n<div>&nbsp\;</div>\n
LOCATION:Midland University's Wikert Event Center- North Clarkson Street\, Fremont\, NE 68025
UID:e.881.14290
SEQUENCE:3
DTSTAMP:20260422T021517Z
URL:https://chamber.fremontne.org/events/details/midland-university-men-s-basketball-game-vs-northwestern-college-14290
END:VEVENT

END:VCALENDAR
