BEGIN:VCALENDAR
VERSION:2.0
PRODID:-//ChamberMaster//Event Calendar 2.0//EN
METHOD:PUBLISH
X-PUBLISHED-TTL:P3D
REFRESH-INTERVAL:P3D
CALSCALE:GREGORIAN
BEGIN:VEVENT
DTSTART:20190202T220000Z
DTEND:20190203T000000Z
X-MICROSOFT-CDO-ALLDAYEVENT:FALSE
SUMMARY:Midland University Men’s Basketball Game vs. University of Jamestown
DESCRIPTION:Cheer on the Midland University Warriors Men's Basketball team as they take on the University of Jamestown.
X-ALT-DESC;FMTTYPE=text/html:<p><span style="font-family:arial\; font-size:10pt">Cheer on the Midland University Warriors Men&rsquo\;s Basketball team as they take on the University of Jamestown.&nbsp\;</span></p>\n\n<div>&nbsp\;</div>\n
LOCATION:Midland University's Wikert Event Center- North Clarkson Street\, Fremont\, NE 68025
UID:e.881.14289
SEQUENCE:3
DTSTAMP:20260422T021551Z
URL:https://chamber.fremontne.org/events/details/midland-university-men-s-basketball-game-vs-university-of-jamestown-14289
END:VEVENT

END:VCALENDAR
